BEGIN:VCALENDAR
VERSION:2.0
CALSCALE:GREGORIAN
PRODID:-//Diputació de Barcelona//DibaCMS//EN
BEGIN:VEVENT
UID:23262
DTSTAMP:20260423T194921
DTSTART:20240817T100000
DTEND:20240817T100000
SUMMARY:Festa Major de l'Aigua i la Llum: Campionat de Rummikub infantil i adult
LOCATION:08755 Castellbisbal
METHOD:PUBLISH
X-WR-CALNAME:comunicacio@castellbisbal.cat
X-WR-TIMEZONE:Europe/Madrid
DESCRIPTION:A les 10.00 hores, a la Plaça de l'Església

URI:https://www.castellbisbal.cat/actualitat/agenda/festa-major-de-laigua-i-la-llum-campionat-de-rummikub-infantil-i-adult.html
CLASS:PUBLIC
END:VEVENT
END:VCALENDAR
