BEGIN:VCALENDAR
VERSION:2.0
CALSCALE:GREGORIAN
PRODID:-//Diputació de Barcelona//DibaCMS//EN
BEGIN:VEVENT
UID:23268
DTSTAMP:20260423T082720
DTSTART:20240915T113000
DTEND:20240915T113000
SUMMARY:Jugatecambiental: Zum, zum, vespes!
LOCATION:Parc de l'Ermita 08755 Castellbisbal
METHOD:PUBLISH
X-WR-CALNAME:comunicacio@castellbisbal.cat
X-WR-TIMEZONE:Europe/Madrid
DESCRIPTION:A les 11.30 hores, al Parc de l'Ermita.

URI:https://www.castellbisbal.cat/actualitat/agenda/jugatecambiental-zum-zum-vespes.html
CLASS:PUBLIC
END:VEVENT
END:VCALENDAR
