BEGIN:VCALENDAR
VERSION:2.0
CALSCALE:GREGORIAN
PRODID:-//Diputació de Barcelona//DibaCMS//EN
BEGIN:VEVENT
UID:23274
DTSTAMP:20260423T231849
DTSTART:20241020T113000
DTEND:20241020T113000
SUMMARY:Jugatecambiental: Reciclem per la Castanyada i Halloween
LOCATION:Parc de l'Ermita 08755 Castellbisbal
METHOD:PUBLISH
X-WR-CALNAME:comunicacio@castellbisbal.cat
X-WR-TIMEZONE:Europe/Madrid
DESCRIPTION:A les 11.30 hores, al Parc de l'Ermita.

URI:https://www.castellbisbal.cat/actualitat/agenda/jugatecambiental-reciclem-per-la-castanyada-i-halloween.html
CLASS:PUBLIC
END:VEVENT
END:VCALENDAR
