BEGIN:VCALENDAR
VERSION:2.0
CALSCALE:GREGORIAN
PRODID:-//Diputació de Barcelona//DibaCMS//EN
BEGIN:VEVENT
UID:23276
DTSTAMP:20260423T000917
DTSTART:20241103T113000
DTEND:20241103T113000
SUMMARY:Jugatecambiental: Cada brossa al seu color
LOCATION:Parc de l'Ermita 08755 Castellbisbal
METHOD:PUBLISH
X-WR-CALNAME:comunicacio@castellbisbal.cat
X-WR-TIMEZONE:Europe/Madrid
DESCRIPTION:A les 11.30 hores, al Parc de l'Ermita.

URI:https://www.castellbisbal.cat/actualitat/agenda/jugatecambiental-cada-brossa-al-seu-color.html
CLASS:PUBLIC
END:VEVENT
END:VCALENDAR
