BEGIN:VCALENDAR
VERSION:2.0
CALSCALE:GREGORIAN
PRODID:-//Diputació de Barcelona//DibaCMS//EN
BEGIN:VEVENT
UID:23277
DTSTAMP:20260423T041124
DTSTART:20241110T113000
DTEND:20241110T113000
SUMMARY:Jugatecambiental: El viatge de la gota Marina!
LOCATION:Parc de l'Ermita 08755 Castellbisbal
METHOD:PUBLISH
X-WR-CALNAME:comunicacio@castellbisbal.cat
X-WR-TIMEZONE:Europe/Madrid
DESCRIPTION:A les 11.30 hores, al Parc de l'Ermita.

URI:https://www.castellbisbal.cat/actualitat/agenda/jugatecambiental-el-viatge-de-la-gota-marina.html
CLASS:PUBLIC
END:VEVENT
END:VCALENDAR
