BEGIN:VCALENDAR
VERSION:2.0
CALSCALE:GREGORIAN
PRODID:-//Diputació de Barcelona//DibaCMS//EN
BEGIN:VEVENT
UID:23281
DTSTAMP:20260423T225616
DTSTART:20240817T100000
DTEND:20240817T100000
SUMMARY:Festa Major de l'Aigua i la Llum: Torneig de ràpides d'escacs
LOCATION:
METHOD:PUBLISH
X-WR-CALNAME:comunicacio@castellbisbal.cat
X-WR-TIMEZONE:Europe/Madrid
DESCRIPTION:A les 10.00 hores, a la Plaça de Joana Raspall d'Els Costals

URI:https://www.castellbisbal.cat/actualitat/agenda/festa-major-de-laigua-i-la-llum-torneig-de-rapides-descacs.html
CLASS:PUBLIC
END:VEVENT
END:VCALENDAR
