BEGIN:VCALENDAR
VERSION:2.0
CALSCALE:GREGORIAN
PRODID:-//Diputació de Barcelona//DibaCMS//EN
BEGIN:VEVENT
UID:23282
DTSTAMP:20260424T180534
DTSTART:20240817T120000
DTEND:20240817T120000
SUMMARY:Festa Major de l'Aigua i la Llum: XXVIII Campionat joc de bitlles Ronda del Rei
LOCATION:
METHOD:PUBLISH
X-WR-CALNAME:comunicacio@castellbisbal.cat
X-WR-TIMEZONE:Europe/Madrid
DESCRIPTION:A les 12.00 hores, al Carrer Major, davant del pati de l'Esbarjo

URI:https://www.castellbisbal.cat/actualitat/agenda/festa-major-de-laigua-i-la-llum-xxviii-campionat-joc-de-bitlles-ronda-del-rei.html
CLASS:PUBLIC
END:VEVENT
END:VCALENDAR
