BEGIN:VCALENDAR
VERSION:2.0
CALSCALE:GREGORIAN
PRODID:-//Diputació de Barcelona//DibaCMS//EN
BEGIN:VEVENT
UID:23283
DTSTAMP:20260422T210929
DTSTART:20240817T120000
DTEND:20240817T120000
SUMMARY:Festa Major de l'Aigua i la Llum: 41è Concurs de Tastavins
LOCATION:Av. de Pau Casals 7 08755 Castellbisbal
METHOD:PUBLISH
X-WR-CALNAME:comunicacio@castellbisbal.cat
X-WR-TIMEZONE:Europe/Madrid
DESCRIPTION:A les 12.00 hores, al Casal Cultural i Recreatiu

URI:https://www.castellbisbal.cat/actualitat/agenda/festa-major-de-laigua-i-la-llum-41e-concurs-de-tastavins.html
CLASS:PUBLIC
END:VEVENT
END:VCALENDAR
