BEGIN:VCALENDAR
VERSION:2.0
CALSCALE:GREGORIAN
PRODID:-//Diputació de Barcelona//DibaCMS//EN
BEGIN:VEVENT
UID:23284
DTSTAMP:20260423T174013
DTSTART:20240817T140000
DTEND:20240817T140000
SUMMARY:Festa Major de l'Aigua i la Llum: Arrossada de Festa Major
LOCATION:
METHOD:PUBLISH
X-WR-CALNAME:comunicacio@castellbisbal.cat
X-WR-TIMEZONE:Europe/Madrid
DESCRIPTION:A les 14.00 hores, a la pista coberta de l'Escola Montserrat

URI:https://www.castellbisbal.cat/actualitat/agenda/festa-major-de-laigua-i-la-llum-arrossada-de-festa-major.html
CLASS:PUBLIC
END:VEVENT
END:VCALENDAR
