BEGIN:VCALENDAR
VERSION:2.0
CALSCALE:GREGORIAN
PRODID:-//Diputació de Barcelona//DibaCMS//EN
BEGIN:VEVENT
UID:23285
DTSTAMP:20260423T021526
DTSTART:20240817T180000
DTEND:20240817T180000
SUMMARY:Festa Major de l'Aigua i la Llum: La Cursa dels Lents
LOCATION:Carrer Pi i Margall, 13 08755 Castellbisbal
METHOD:PUBLISH
X-WR-CALNAME:comunicacio@castellbisbal.cat
X-WR-TIMEZONE:Europe/Madrid
DESCRIPTION:A les 18.00 hores, al carrer Pi i Margall

URI:https://www.castellbisbal.cat/actualitat/agenda/festa-major-de-laigua-i-la-llum-la-cursa-dels-lents.html
CLASS:PUBLIC
END:VEVENT
END:VCALENDAR
