BEGIN:VCALENDAR
VERSION:2.0
CALSCALE:GREGORIAN
PRODID:-//Diputació de Barcelona//DibaCMS//EN
BEGIN:VEVENT
UID:23286
DTSTAMP:20260423T082535
DTSTART:20240817T180000
DTEND:20240817T180000
SUMMARY:Festa Major de l'Aigua i la Llum: Viatge en el temps! Gimcana de cotxes
LOCATION:
METHOD:PUBLISH
X-WR-CALNAME:comunicacio@castellbisbal.cat
X-WR-TIMEZONE:Europe/Madrid
DESCRIPTION:A les 18.00 hores, itinerant amb cotxe

URI:https://www.castellbisbal.cat/actualitat/agenda/festa-major-de-laigua-i-la-llum-viatge-en-el-temps-gimcana-de-cotxes.html
CLASS:PUBLIC
END:VEVENT
END:VCALENDAR
