BEGIN:VCALENDAR
VERSION:2.0
CALSCALE:GREGORIAN
PRODID:-//Diputació de Barcelona//DibaCMS//EN
BEGIN:VEVENT
UID:23288
DTSTAMP:20260423T165703
DTSTART:20240818T000000
DTEND:20240818T000000
SUMMARY:Festa Major de l'Aigua i la Llum: Ball de l'Empaitafoc amb el grup A Kontrakorrent i DJ Milú
LOCATION:
METHOD:PUBLISH
X-WR-CALNAME:comunicacio@castellbisbal.cat
X-WR-TIMEZONE:Europe/Madrid
DESCRIPTION:A les 00.00 hores, a la Plaça de l'Església

URI:https://www.castellbisbal.cat/actualitat/agenda/festa-major-de-laigua-i-la-llum-ball-de-lempaitafoc-amb-el-grup-a-kontrakorrent-i-dj-milu.html
CLASS:PUBLIC
END:VEVENT
END:VCALENDAR
