BEGIN:VCALENDAR
VERSION:2.0
CALSCALE:GREGORIAN
PRODID:-//Diputació de Barcelona//DibaCMS//EN
BEGIN:VEVENT
UID:23289
DTSTAMP:20260423T070301
DTSTART:20240818T021500
DTEND:20240818T021500
SUMMARY:Festa Major de l'Aigua i la Llum: Ballera de Capsigranys 
LOCATION:Plaça del Joc 08755 Castellbisbal
METHOD:PUBLISH
X-WR-CALNAME:comunicacio@castellbisbal.cat
X-WR-TIMEZONE:Europe/Madrid
DESCRIPTION:A les 02.15 hores, a la Plaça del Joc

URI:https://www.castellbisbal.cat/actualitat/agenda/festa-major-de-laigua-i-la-llum-ballera-de-capsigranys-.html
CLASS:PUBLIC
END:VEVENT
END:VCALENDAR
