BEGIN:VCALENDAR
VERSION:2.0
CALSCALE:GREGORIAN
PRODID:-//Diputació de Barcelona//DibaCMS//EN
BEGIN:VEVENT
UID:23290
DTSTAMP:20260423T030011
DTSTART:20240818T034500
DTEND:20240818T034500
SUMMARY:Festa Major de l'Aigua i la Llum: Tractor Trànsit Sound System
LOCATION:
METHOD:PUBLISH
X-WR-CALNAME:comunicacio@castellbisbal.cat
X-WR-TIMEZONE:Europe/Madrid
DESCRIPTION:A les 03.45 hores, itinerant on l'inici serà al carrer Estació

URI:https://www.castellbisbal.cat/actualitat/agenda/festa-major-de-laigua-i-la-llum-tractor-transit-sound-system.html
CLASS:PUBLIC
END:VEVENT
END:VCALENDAR
