BEGIN:VCALENDAR
VERSION:2.0
CALSCALE:GREGORIAN
PRODID:-//Diputació de Barcelona//DibaCMS//EN
BEGIN:VEVENT
UID:23291
DTSTAMP:20260423T070337
DTSTART:20240818T110000
DTEND:20240818T110000
SUMMARY:Festa Major de l'Aigua i la Llum: Espectacle familiar Music Box amb la cia. Fadunito
LOCATION:
METHOD:PUBLISH
X-WR-CALNAME:comunicacio@castellbisbal.cat
X-WR-TIMEZONE:Europe/Madrid
DESCRIPTION:A les 11.00 hores, pista coberta de l'Escola Montserrat

URI:https://www.castellbisbal.cat/actualitat/agenda/festa-major-de-laigua-i-la-llum-espectacle-familiar-music-box-amb-la-cia-fadunito.html
CLASS:PUBLIC
END:VEVENT
END:VCALENDAR
