BEGIN:VCALENDAR
VERSION:2.0
CALSCALE:GREGORIAN
PRODID:-//Diputació de Barcelona//DibaCMS//EN
BEGIN:VEVENT
UID:23292
DTSTAMP:20260423T195945
DTSTART:20240818T120000
DTEND:20240818T120000
SUMMARY:Festa Major de l'Aigua i la Llum: Taller de titelles de la imatgeria pota-roja
LOCATION:Av. de Pau Casals, 16 08755 Castellbisbal
METHOD:PUBLISH
X-WR-CALNAME:comunicacio@castellbisbal.cat
X-WR-TIMEZONE:Europe/Madrid
DESCRIPTION:A les 12.00 hores, a la botiga de Festa Major (Sala d'Exposicions d'Els Costals)

URI:https://www.castellbisbal.cat/actualitat/agenda/festa-major-de-laigua-i-la-llum-taller-de-titelles-de-la-imatgeria-pota-roja.html
CLASS:PUBLIC
END:VEVENT
END:VCALENDAR
