BEGIN:VCALENDAR
VERSION:2.0
CALSCALE:GREGORIAN
PRODID:-//Diputació de Barcelona//DibaCMS//EN
BEGIN:VEVENT
UID:23293
DTSTAMP:20260423T202516
DTSTART:20240818T170000
DTEND:20240818T170000
SUMMARY:Festa Major de l'Aigua i la Llum: Torneig 3x3 del Club Bàsquet Castellbisbal per a infants i adults
LOCATION:
METHOD:PUBLISH
X-WR-CALNAME:comunicacio@castellbisbal.cat
X-WR-TIMEZONE:Europe/Madrid
DESCRIPTION:A les 17.00 hores, a la pista coberta i pavelló de l'Escola Montserrat

URI:https://www.castellbisbal.cat/actualitat/agenda/festa-major-de-laigua-i-la-llum-torneig-3x3-del-club-basquet-castellbisbal-per-a-infants-i-adults.html
CLASS:PUBLIC
END:VEVENT
END:VCALENDAR
