BEGIN:VCALENDAR
VERSION:2.0
CALSCALE:GREGORIAN
PRODID:-//Diputació de Barcelona//DibaCMS//EN
BEGIN:VEVENT
UID:23294
DTSTAMP:20260423T230727
DTSTART:20240818T173000
DTEND:20240818T173000
SUMMARY:Festa Major de l'Aigua i la Llum: XXIII Tarda Castellera
LOCATION:08755 Castellbisbal
METHOD:PUBLISH
X-WR-CALNAME:comunicacio@castellbisbal.cat
X-WR-TIMEZONE:Europe/Madrid
DESCRIPTION:A les 17.30 hores, a la Plaça de l'Església

URI:https://www.castellbisbal.cat/actualitat/agenda/festa-major-de-laigua-i-la-llum-xxiii-tarda-castellera.html
CLASS:PUBLIC
END:VEVENT
END:VCALENDAR
