BEGIN:VCALENDAR
VERSION:2.0
CALSCALE:GREGORIAN
PRODID:-//Diputació de Barcelona//DibaCMS//EN
BEGIN:VEVENT
UID:23295
DTSTAMP:20260423T031645
DTSTART:20240818T173000
DTEND:20240818T173000
SUMMARY:Festa Major de l'Aigua i la Llum: Les Destreses Pota-roges
LOCATION:Països Catalans, 30 08755 Castellbisbal
METHOD:PUBLISH
X-WR-CALNAME:comunicacio@castellbisbal.cat
X-WR-TIMEZONE:Europe/Madrid
DESCRIPTION:A les 17.30 hores, al Parc de les Destreses (entre la variant i el carrer dels Països Catalans)

URI:https://www.castellbisbal.cat/actualitat/agenda/festa-major-de-laigua-i-la-llum-les-destreses-pota-roges.html
CLASS:PUBLIC
END:VEVENT
END:VCALENDAR
