BEGIN:VCALENDAR
VERSION:2.0
CALSCALE:GREGORIAN
PRODID:-//Diputació de Barcelona//DibaCMS//EN
BEGIN:VEVENT
UID:23296
DTSTAMP:20260424T224955
DTSTART:20240818T183000
DTEND:20240818T183000
SUMMARY:Festa Major de l'Aigua i la Llum: Daltabaix 2024. Rebuda dels convidats
LOCATION:
METHOD:PUBLISH
X-WR-CALNAME:comunicacio@castellbisbal.cat
X-WR-TIMEZONE:Europe/Madrid
DESCRIPTION:A les 18.00 hores, a La Bassa

URI:https://www.castellbisbal.cat/actualitat/agenda/festa-major-de-laigua-i-la-llum-daltabaix-2024-rebuda-dels-convidats.html
CLASS:PUBLIC
END:VEVENT
END:VCALENDAR
