BEGIN:VCALENDAR
VERSION:2.0
CALSCALE:GREGORIAN
PRODID:-//Diputació de Barcelona//DibaCMS//EN
BEGIN:VEVENT
UID:23297
DTSTAMP:20260422T235612
DTSTART:20240818T184500
DTEND:20240818T184500
SUMMARY:Festa Major de l'Aigua i la Llum: Daltabaix 2024. Passejada
LOCATION:
METHOD:PUBLISH
X-WR-CALNAME:comunicacio@castellbisbal.cat
X-WR-TIMEZONE:Europe/Madrid
DESCRIPTION:A les 18.45 hores, a La Bassa

URI:https://www.castellbisbal.cat/actualitat/agenda/festa-major-de-laigua-i-la-llum-daltabaix-2024-passejada.html
CLASS:PUBLIC
END:VEVENT
END:VCALENDAR
