BEGIN:VCALENDAR
VERSION:2.0
CALSCALE:GREGORIAN
PRODID:-//Diputació de Barcelona//DibaCMS//EN
BEGIN:VEVENT
UID:23298
DTSTAMP:20260423T151555
DTSTART:20240818T193000
DTEND:20240818T193000
SUMMARY:Festa Major de l'Aigua i la Llum: Daltabaix 2024. Mostra de balls i esclat final de festa
LOCATION:08755 Castellbisbal
METHOD:PUBLISH
X-WR-CALNAME:comunicacio@castellbisbal.cat
X-WR-TIMEZONE:Europe/Madrid
DESCRIPTION:A les 19.30 hores, a la Plaça de l'Església.

URI:https://www.castellbisbal.cat/actualitat/agenda/festa-major-de-laigua-i-la-llum-daltabaix-2024-mostra-de-balls-i-esclat-final-de-festa.html
CLASS:PUBLIC
END:VEVENT
END:VCALENDAR
