BEGIN:VCALENDAR
VERSION:2.0
CALSCALE:GREGORIAN
PRODID:-//Diputació de Barcelona//DibaCMS//EN
BEGIN:VEVENT
UID:23300
DTSTAMP:20260423T184448
DTSTART:20240818T193000
DTEND:20240818T193000
SUMMARY:Festa Major de l'Aigua i la Llum: El Tractoret, TTXS + Flash-Move
LOCATION:Parc Folch i Torres 08755 Castellbisbal
METHOD:PUBLISH
X-WR-CALNAME:comunicacio@castellbisbal.cat
X-WR-TIMEZONE:Europe/Madrid
DESCRIPTION:
	A les 19.30 hores, itinerant començant a l'Envelat del parc Folch i Torres


URI:https://www.castellbisbal.cat/actualitat/agenda/festa-major-de-laigua-i-la-llum-el-tractoret-ttxs--flash-move.html
CLASS:PUBLIC
END:VEVENT
END:VCALENDAR
