BEGIN:VCALENDAR
VERSION:2.0
CALSCALE:GREGORIAN
PRODID:-//Diputació de Barcelona//DibaCMS//EN
BEGIN:VEVENT
UID:23301
DTSTAMP:20260423T013635
DTSTART:20240818T210000
DTEND:20240818T210000
SUMMARY:Festa Major de l'Aigua i la Llum: Els Pasquëros
LOCATION:Plaça del Joc 08755 Castellbisbal
METHOD:PUBLISH
X-WR-CALNAME:comunicacio@castellbisbal.cat
X-WR-TIMEZONE:Europe/Madrid
DESCRIPTION:A les 21.00 hores, itinerant començant a la plaça del Joc

URI:https://www.castellbisbal.cat/actualitat/agenda/festa-major-de-laigua-i-la-llum-els-pasqueros.html
CLASS:PUBLIC
END:VEVENT
END:VCALENDAR
