BEGIN:VCALENDAR
VERSION:2.0
CALSCALE:GREGORIAN
PRODID:-//Diputació de Barcelona//DibaCMS//EN
BEGIN:VEVENT
UID:23302
DTSTAMP:20260424T035543
DTSTART:20240818T230000
DTEND:20240818T230000
SUMMARY:Festa Major de l'Aigua i la Llum: Concert amb Men in Swing
LOCATION:Plaça del Joc 08755 Castellbisbal
METHOD:PUBLISH
X-WR-CALNAME:comunicacio@castellbisbal.cat
X-WR-TIMEZONE:Europe/Madrid
DESCRIPTION:A les 23.00 hores, a la plaça del Joc

URI:https://www.castellbisbal.cat/actualitat/agenda/festa-major-de-laigua-i-la-llum-concert-amb-men-in-swing.html
CLASS:PUBLIC
END:VEVENT
END:VCALENDAR
