BEGIN:VCALENDAR
VERSION:2.0
CALSCALE:GREGORIAN
PRODID:-//Diputació de Barcelona//DibaCMS//EN
BEGIN:VEVENT
UID:23305
DTSTAMP:20260424T003646
DTSTART:20240819T120000
DTEND:20240819T120000
SUMMARY:Festa Major de l'Aigua i la Llum: Taller d'iniciació al tast de vins blancs
LOCATION:Avinguda Pau Casals, 16 08755 Castellbisbal
METHOD:PUBLISH
X-WR-CALNAME:comunicacio@castellbisbal.cat
X-WR-TIMEZONE:Europe/Madrid
DESCRIPTION:A les 12.00 hores, a l'Espai Montserrat Roig d'Els Costals

URI:https://www.castellbisbal.cat/actualitat/agenda/festa-major-de-laigua-i-la-llum-taller-diniciacio-al-tast-de-vins-blancs.html
CLASS:PUBLIC
END:VEVENT
END:VCALENDAR
