BEGIN:VCALENDAR
VERSION:2.0
CALSCALE:GREGORIAN
PRODID:-//Diputació de Barcelona//DibaCMS//EN
BEGIN:VEVENT
UID:23306
DTSTAMP:20260423T113827
DTSTART:20240819T180000
DTEND:20240819T180000
SUMMARY:Festa Major de l'Aigua i la Llum: Carrers de Circ. Baktana amb la cia. Lazuz
LOCATION:Plaça del Joc 08755 Castellbisbal
METHOD:PUBLISH
X-WR-CALNAME:comunicacio@castellbisbal.cat
X-WR-TIMEZONE:Europe/Madrid
DESCRIPTION:A les 18.00 hores, a la Plaça del Joc

URI:https://www.castellbisbal.cat/actualitat/agenda/festa-major-de-laigua-i-la-llum-carrers-de-circ-baktana-amb-la-cia-lazuz.html
CLASS:PUBLIC
END:VEVENT
END:VCALENDAR
