BEGIN:VCALENDAR
VERSION:2.0
CALSCALE:GREGORIAN
PRODID:-//Diputació de Barcelona//DibaCMS//EN
BEGIN:VEVENT
UID:23307
DTSTAMP:20260423T151625
DTSTART:20240819T183000
DTEND:20240819T183000
SUMMARY:Festa Major de l'Aigua i la Llum: Carrers de Circ. BubbleBike amb la cia. Un toc de festa
LOCATION:carrer de l'Olivar, 49 08755 Castellbisbal
METHOD:PUBLISH
X-WR-CALNAME:comunicacio@castellbisbal.cat
X-WR-TIMEZONE:Europe/Madrid
DESCRIPTION:A les 18.30 hores, a la Plaça de les Escoles

URI:https://www.castellbisbal.cat/actualitat/agenda/festa-major-de-laigua-i-la-llum-carrers-de-circ-bubblebike-amb-la-cia-un-toc-de-festa.html
CLASS:PUBLIC
END:VEVENT
END:VCALENDAR
