BEGIN:VCALENDAR
VERSION:2.0
CALSCALE:GREGORIAN
PRODID:-//Diputació de Barcelona//DibaCMS//EN
BEGIN:VEVENT
UID:23308
DTSTAMP:20260423T083215
DTSTART:20240819T193000
DTEND:20240819T193000
SUMMARY:Festa Major de l'Aigua i la Llum: Carrers de Circ. Home amb la cia. Cris-is
LOCATION:
METHOD:PUBLISH
X-WR-CALNAME:comunicacio@castellbisbal.cat
X-WR-TIMEZONE:Europe/Madrid
DESCRIPTION:A les 19.30 hores, a la pista coberta de l'Escola Montserrat

URI:https://www.castellbisbal.cat/actualitat/agenda/festa-major-de-laigua-i-la-llum-carrers-de-circ-home-amb-la-cia-cris-is.html
CLASS:PUBLIC
END:VEVENT
END:VCALENDAR
