BEGIN:VCALENDAR
VERSION:2.0
CALSCALE:GREGORIAN
PRODID:-//Diputació de Barcelona//DibaCMS//EN
BEGIN:VEVENT
UID:23309
DTSTAMP:20260423T154438
DTSTART:20240819T193000
DTEND:20240819T193000
SUMMARY:Festa Major de l'Aigua i la Llum: Ballada de sardanes amb la cobla Sabadell
LOCATION:08755 Castellbisbal
METHOD:PUBLISH
X-WR-CALNAME:comunicacio@castellbisbal.cat
X-WR-TIMEZONE:Europe/Madrid
DESCRIPTION:A les 19.30 hores, a la plaça de l'Església

URI:https://www.castellbisbal.cat/actualitat/agenda/festa-major-de-laigua-i-la-llum-ballada-de-sardanes-amb-la-cobla-sabadell.html
CLASS:PUBLIC
END:VEVENT
END:VCALENDAR
