BEGIN:VCALENDAR
VERSION:2.0
CALSCALE:GREGORIAN
PRODID:-//Diputació de Barcelona//DibaCMS//EN
BEGIN:VEVENT
UID:23310
DTSTAMP:20260422T235654
DTSTART:20240819T200000
DTEND:20240819T200000
SUMMARY:Festa Major de l'Aigua i la Llum: La Baixada 
LOCATION:
METHOD:PUBLISH
X-WR-CALNAME:comunicacio@castellbisbal.cat
X-WR-TIMEZONE:Europe/Madrid
DESCRIPTION:A les 20.00 hores, pels carrers dels Ametllers, de Sant Joan i avinguda de Pau Casals

URI:https://www.castellbisbal.cat/actualitat/agenda/festa-major-de-laigua-i-la-llum-la-baixada-.html
CLASS:PUBLIC
END:VEVENT
END:VCALENDAR
