BEGIN:VCALENDAR
VERSION:2.0
CALSCALE:GREGORIAN
PRODID:-//Diputació de Barcelona//DibaCMS//EN
BEGIN:VEVENT
UID:23311
DTSTAMP:20260424T224859
DTSTART:20240819T210000
DTEND:20240819T210000
SUMMARY:Festa Major de l'Aigua i la Llum: Concert i ball amb l'Orquestra Aquàrium
LOCATION:08755 Castellbisbal
METHOD:PUBLISH
X-WR-CALNAME:comunicacio@castellbisbal.cat
X-WR-TIMEZONE:Europe/Madrid
DESCRIPTION:A les 21.00 hores, a la pista d'estiu del Casal Cultural i Recreatiu

URI:https://www.castellbisbal.cat/actualitat/agenda/festa-major-de-laigua-i-la-llum-concert-i-ball-amb-lorquestra-aquarium.html
CLASS:PUBLIC
END:VEVENT
END:VCALENDAR
