BEGIN:VCALENDAR
VERSION:2.0
CALSCALE:GREGORIAN
PRODID:-//Diputació de Barcelona//DibaCMS//EN
BEGIN:VEVENT
UID:23312
DTSTAMP:20260424T065816
DTSTART:20240819T230000
DTEND:20240819T230000
SUMMARY:Festa Major de l'Aigua i la Llum: Cinema en remull
LOCATION:C. dels Esports 08755 Castellbisbal
METHOD:PUBLISH
X-WR-CALNAME:comunicacio@castellbisbal.cat
X-WR-TIMEZONE:Europe/Madrid
DESCRIPTION:A les 23.00 hores, a la piscina d'estiu de l'Illa Esportiva

URI:https://www.castellbisbal.cat/actualitat/agenda/festa-major-de-laigua-i-la-llum-cinema-en-remull.html
CLASS:PUBLIC
END:VEVENT
END:VCALENDAR
