BEGIN:VCALENDAR
VERSION:2.0
CALSCALE:GREGORIAN
PRODID:-//Diputació de Barcelona//DibaCMS//EN
BEGIN:VEVENT
UID:23313
DTSTAMP:20260423T180056
DTSTART:20240820T000000
DTEND:20240820T000500
SUMMARY:Festa Major de l'Aigua i la Llum: Carnaval d'estiu
LOCATION:Parc Folch i Torres 08755 Castellbisbal
METHOD:PUBLISH
X-WR-CALNAME:comunicacio@castellbisbal.cat
X-WR-TIMEZONE:Europe/Madrid
DESCRIPTION:A les 00.00 hores, a l'Envalat del parc Folch i Torres

URI:https://www.castellbisbal.cat/actualitat/agenda/festa-major-de-laigua-i-la-llum-carnaval-destiu.html
CLASS:PUBLIC
END:VEVENT
END:VCALENDAR
