BEGIN:VCALENDAR
VERSION:2.0
CALSCALE:GREGORIAN
PRODID:-//Diputació de Barcelona//DibaCMS//EN
BEGIN:VEVENT
UID:23314
DTSTAMP:20260423T014052
DTSTART:20240820T070000
DTEND:20240820T090000
SUMMARY:Festa Major de l'Aigua i la Llum: Matinades
LOCATION:08755 Castellbisbal
METHOD:PUBLISH
X-WR-CALNAME:comunicacio@castellbisbal.cat
X-WR-TIMEZONE:Europe/Madrid
DESCRIPTION:A les 07.00 hores, poble avall i poble amunt començant a la plaça de l'Església

URI:https://www.castellbisbal.cat/actualitat/agenda/festa-major-de-laigua-i-la-llum-matinades.html
CLASS:PUBLIC
END:VEVENT
END:VCALENDAR
