BEGIN:VCALENDAR
VERSION:2.0
CALSCALE:GREGORIAN
PRODID:-//Diputació de Barcelona//DibaCMS//EN
BEGIN:VEVENT
UID:23315
DTSTAMP:20260422T235420
DTSTART:20240820T090000
DTEND:20240820T100000
SUMMARY:Festa Major de l'Aigua i la Llum: Esmorzar de Festa Major
LOCATION:Plaça de l'Església 08755 Castellbisbal
METHOD:PUBLISH
X-WR-CALNAME:comunicacio@castellbisbal.cat
X-WR-TIMEZONE:Europe/Madrid
DESCRIPTION:A les 09.00 hores, al pati de l'Esbarjo

URI:https://www.castellbisbal.cat/actualitat/agenda/festa-major-de-laigua-i-la-llum-esmorzar-de-festa-major.html
CLASS:PUBLIC
END:VEVENT
END:VCALENDAR
