BEGIN:VCALENDAR
VERSION:2.0
CALSCALE:GREGORIAN
PRODID:-//Diputació de Barcelona//DibaCMS//EN
BEGIN:VEVENT
UID:23316
DTSTAMP:20260422T221846
DTSTART:20240820T110000
DTEND:20240820T110000
SUMMARY:Festa Major de l'Aigua i la Llum: Tallers familiars del Museu de la Pagesia
LOCATION:Carrer Pi i Margall, 13 08755 Castellbisbal
METHOD:PUBLISH
X-WR-CALNAME:comunicacio@castellbisbal.cat
X-WR-TIMEZONE:Europe/Madrid
DESCRIPTION:A les 11.00 hores, al Museu de la Pagesia

URI:https://www.castellbisbal.cat/actualitat/agenda/festa-major-de-laigua-i-la-llum-tallers-familiars-del-museu-de-la-pagesia.html
CLASS:PUBLIC
END:VEVENT
END:VCALENDAR
