BEGIN:VCALENDAR
VERSION:2.0
CALSCALE:GREGORIAN
PRODID:-//Diputació de Barcelona//DibaCMS//EN
BEGIN:VEVENT
UID:23318
DTSTAMP:20260423T064307
DTSTART:20240820T120000
DTEND:20240820T120000
SUMMARY:Festa Major de l'Aigua i la Llum: Repic de campanes de Festa Major
LOCATION:08755 Castellbisbal
METHOD:PUBLISH
X-WR-CALNAME:comunicacio@castellbisbal.cat
X-WR-TIMEZONE:Europe/Madrid
DESCRIPTION:A continuació de l'Ofici, a la Plaça de l'Església

URI:https://www.castellbisbal.cat/actualitat/agenda/festa-major-de-laigua-i-la-llum-repic-de-campanes-de-festa-major.html
CLASS:PUBLIC
END:VEVENT
END:VCALENDAR
