BEGIN:VCALENDAR
VERSION:2.0
CALSCALE:GREGORIAN
PRODID:-//Diputació de Barcelona//DibaCMS//EN
BEGIN:VEVENT
UID:23319
DTSTAMP:20260423T082505
DTSTART:20240820T123000
DTEND:20240820T123000
SUMMARY:Festa Major de l'Aigua i la Llum: concert vermut amb el grup Ballaveu
LOCATION:Plaça de l'Església 08755 Castellbisbal
METHOD:PUBLISH
X-WR-CALNAME:comunicacio@castellbisbal.cat
X-WR-TIMEZONE:Europe/Madrid
DESCRIPTION:a les 12.30 hores, al pati de l'Esbarjo

URI:https://www.castellbisbal.cat/actualitat/agenda/festa-major-de-laigua-i-la-llum-concert-vermut-amb-el-grup-ballaveu.html
CLASS:PUBLIC
END:VEVENT
END:VCALENDAR
