BEGIN:VCALENDAR
VERSION:2.0
CALSCALE:GREGORIAN
PRODID:-//Diputació de Barcelona//DibaCMS//EN
BEGIN:VEVENT
UID:23320
DTSTAMP:20260423T164638
DTSTART:20240820T170000
DTEND:20240820T170000
SUMMARY:Festa Major de l'Aigua i la Llum: Jocs tradicionals de l'Esplai - ACTE SUSPÈS
LOCATION:Plaça de l'Església 08755 Castellbisbal
METHOD:PUBLISH
X-WR-CALNAME:comunicacio@castellbisbal.cat
X-WR-TIMEZONE:Europe/Madrid
DESCRIPTION:A les 17.00 hores, al pati de l'Esbarjo

URI:https://www.castellbisbal.cat/actualitat/agenda/festa-major-de-laigua-i-la-llum-jocs-tradicionals-de-lesplai-.html
CLASS:PUBLIC
END:VEVENT
END:VCALENDAR
