BEGIN:VCALENDAR
VERSION:2.0
CALSCALE:GREGORIAN
PRODID:-//Diputació de Barcelona//DibaCMS//EN
BEGIN:VEVENT
UID:23322
DTSTAMP:20260423T031905
DTSTART:20240820T180000
DTEND:20240820T180000
SUMMARY:Festa Major de l'Aigua i la Llum: Acte de recreació històrica - ACTE SUSPÈS
LOCATION:Carrer Pi i Margall, 13 08755 Castellbisbal
METHOD:PUBLISH
X-WR-CALNAME:comunicacio@castellbisbal.cat
X-WR-TIMEZONE:Europe/Madrid
DESCRIPTION:A les 18.00 hores, itinerant començant al Museu de la Pagesia

URI:https://www.castellbisbal.cat/actualitat/agenda/festa-major-de-laigua-i-la-llum-acte-de-recreacio-historica.html
CLASS:PUBLIC
END:VEVENT
END:VCALENDAR
