BEGIN:VCALENDAR
VERSION:2.0
CALSCALE:GREGORIAN
PRODID:-//Diputació de Barcelona//DibaCMS//EN
BEGIN:VEVENT
UID:23323
DTSTAMP:20260423T031701
DTSTART:20240820T210000
DTEND:20240820T210000
SUMMARY:Festa Major de l'Aigua i la Llum: Sopar de fi de festa - ACTE SUSPÈS
LOCATION:Parc Folch i Torres 08755 Castellbisbal
METHOD:PUBLISH
X-WR-CALNAME:comunicacio@castellbisbal.cat
X-WR-TIMEZONE:Europe/Madrid
DESCRIPTION:A les 21.00 hores, a l'Envelat del parc Folch i Torres

URI:https://www.castellbisbal.cat/actualitat/agenda/festa-major-de-laigua-i-la-llum-sopar-de-fi-de-festa.html
CLASS:PUBLIC
END:VEVENT
END:VCALENDAR
