BEGIN:VCALENDAR
VERSION:2.0
CALSCALE:GREGORIAN
PRODID:-//Diputació de Barcelona//DibaCMS//EN
BEGIN:VEVENT
UID:23324
DTSTAMP:20260424T042529
DTSTART:20240820T220000
DTEND:20240820T220000
SUMMARY:Festa Major de l'Aigua i la Llum: Ball de fi de Festa Major amb el grup Pelukass - ACTE SUSPÈS
LOCATION:Parc Folch i Torres 08755 Castellbisbal
METHOD:PUBLISH
X-WR-CALNAME:comunicacio@castellbisbal.cat
X-WR-TIMEZONE:Europe/Madrid
DESCRIPTION:A les 22.00 hores, a l'Envelat del parc Folch i Torres

URI:https://www.castellbisbal.cat/actualitat/agenda/festa-major-de-laigua-i-la-llum-ball-de-fi-de-festa-major-amb-el-grup-pelukass-acte-suspes.html
CLASS:PUBLIC
END:VEVENT
END:VCALENDAR
