BEGIN:VCALENDAR
VERSION:2.0
CALSCALE:GREGORIAN
PRODID:-//Diputació de Barcelona//DibaCMS//EN
BEGIN:VEVENT
UID:23326
DTSTAMP:20260424T065546
DTSTART:20240820T230000
DTEND:20240820T230000
SUMMARY:Festa Major de l'Aigua i la Llum: Comiat de l'Aigua i la Llum - ACTE SUSPÈS
LOCATION:Parc Folch i Torres 08755 Castellbisbal
METHOD:PUBLISH
X-WR-CALNAME:comunicacio@castellbisbal.cat
X-WR-TIMEZONE:Europe/Madrid
DESCRIPTION:Després del ball de fi de festa, itinerant començant a l'Envelat del parc Folch i Torres

URI:https://www.castellbisbal.cat/actualitat/agenda/festa-major-de-laigua-i-la-llum-comiat-de-laigua-i-la-llum.html
CLASS:PUBLIC
END:VEVENT
END:VCALENDAR
