BEGIN:VCALENDAR
VERSION:2.0
CALSCALE:GREGORIAN
PRODID:-//Diputació de Barcelona//DibaCMS//EN
BEGIN:VEVENT
UID:23341
DTSTAMP:20260422T222734
DTSTART:20240814T100000
DTEND:20240820T140000
SUMMARY:Exposició: El ritual de la Festa Major de l'Aigua i la Llum
LOCATION:Av. de Pau Casals, 16 08755 Castellbisbal
METHOD:PUBLISH
X-WR-CALNAME:comunicacio@castellbisbal.cat
X-WR-TIMEZONE:Europe/Madrid
DESCRIPTION:El 14, 16, 17, 18, 19 i 20 d'agost, a la Sala d'Exposicions d'Els Costals.

URI:https://www.castellbisbal.cat/actualitat/agenda/exposicio-el-ritual-de-la-festa-major-de-laigua-i-la-llum.html
CLASS:PUBLIC
END:VEVENT
END:VCALENDAR
