BEGIN:VCALENDAR
VERSION:2.0
CALSCALE:GREGORIAN
PRODID:-//Diputació de Barcelona//DibaCMS//EN
BEGIN:VEVENT
UID:23345
DTSTAMP:20260423T170604
DTSTART:20240919T173000
DTEND:20240919T173000
SUMMARY:Contes menuts: La casa dels sons
LOCATION:Av. de Pau Casals, 16 08755 Castellbisbal
METHOD:PUBLISH
X-WR-CALNAME:comunicacio@castellbisbal.cat
X-WR-TIMEZONE:Europe/Madrid
DESCRIPTION:A les 17.30 hores, a la Biblioteca Municipal Josep Mateu i Miró

URI:https://www.castellbisbal.cat/actualitat/agenda/biblioteca/23345-contes-menuts-la-casa-dels-sons.html
CLASS:PUBLIC
END:VEVENT
END:VCALENDAR
