BEGIN:VCALENDAR
VERSION:2.0
CALSCALE:GREGORIAN
PRODID:-//Diputació de Barcelona//DibaCMS//EN
BEGIN:VEVENT
UID:23350
DTSTAMP:20260422T193700
DTSTART:20240918T120000
DTEND:20240918T120000
SUMMARY:Xerrades i tallers pel Dia Mundial dels Primers Auxilis - matí
LOCATION:Av. de Pau Casals, 9 08755 Castellbisbal
METHOD:PUBLISH
X-WR-CALNAME:comunicacio@castellbisbal.cat
X-WR-TIMEZONE:Europe/Madrid
DESCRIPTION:De 12.00 a 14.00 hores, a la Sala d'Actes de l'Ajuntament

URI:https://www.castellbisbal.cat/actualitat/agenda/xerrades-i-tallers-pel-dia-mundial-dels-primers-auxilis-mati.html
CLASS:PUBLIC
END:VEVENT
END:VCALENDAR
