BEGIN:VCALENDAR
VERSION:2.0
CALSCALE:GREGORIAN
PRODID:-//Diputació de Barcelona//DibaCMS//EN
BEGIN:VEVENT
UID:23351
DTSTAMP:20260423T210610
DTSTART:20240918T180000
DTEND:20240918T180000
SUMMARY:Xerrades i tallers pel Dia Mundial dels Primers Auxilis - tarda
LOCATION:Av. Pau Casals, 12 08755 Castellbisbal
METHOD:PUBLISH
X-WR-CALNAME:comunicacio@castellbisbal.cat
X-WR-TIMEZONE:Europe/Madrid
DESCRIPTION:De 18.00 a 20.00 hores, a la Sala d'Educació. Cap Doctor Joan Planas

URI:https://www.castellbisbal.cat/actualitat/agenda/xerrades-i-tallers-pel-dia-mundial-dels-primers-auxilis-tarda.html
CLASS:PUBLIC
END:VEVENT
END:VCALENDAR
