BEGIN:VCALENDAR
VERSION:2.0
CALSCALE:GREGORIAN
PRODID:-//Diputació de Barcelona//DibaCMS//EN
BEGIN:VEVENT
UID:23365
DTSTAMP:20260424T172758
DTSTART:20241008T173000
DTEND:20241008T173000
SUMMARY:15es Jornades de la Gent Gran: Exhibició dels grups de ball de la Gent Gran de Castellbisbal
LOCATION:Av. de Pau Casals, 9 08755 Castellbisbal
METHOD:PUBLISH
X-WR-CALNAME:comunicacio@castellbisbal.cat
X-WR-TIMEZONE:Europe/Madrid
DESCRIPTION:A les 17.30 hores, a Sala d'actes de l'Ajuntament

URI:https://www.castellbisbal.cat/actualitat/agenda/15es-jornades-de-la-gent-gran-exhibicio-dels-grups-de-ball-de-la-gent-gran-de-castellbisbal.html
CLASS:PUBLIC
END:VEVENT
END:VCALENDAR
