BEGIN:VCALENDAR
VERSION:2.0
CALSCALE:GREGORIAN
PRODID:-//Diputació de Barcelona//DibaCMS//EN
BEGIN:VEVENT
UID:23369
DTSTAMP:20260424T234614
DTSTART:20241011T113000
DTEND:20241011T170000
SUMMARY:15es Jornades de la Gent Gran: Visita a l'exposició del NYS "El retorn entre l'esperança i la devastació"
LOCATION:Av. de Pau Casals, 16 08755 Castellbisbal
METHOD:PUBLISH
X-WR-CALNAME:comunicacio@castellbisbal.cat
X-WR-TIMEZONE:Europe/Madrid
DESCRIPTION:A les 11.00 i, a les 17.00 hores, a la Sala d'exposicions d'Els Costals

URI:https://www.castellbisbal.cat/actualitat/agenda/15es-jornades-de-la-gent-gran-visita-a-lexposicio-del-nys-el-retorn-entre-lesperanca-i-la-devastacio.html
CLASS:PUBLIC
END:VEVENT
END:VCALENDAR
